BEGIN:VCALENDAR
VERSION:2.0
PRODID:-//TV Hofheim - ECPv6.15.20//NONSGML v1.0//EN
CALSCALE:GREGORIAN
METHOD:PUBLISH
X-WR-CALNAME:TV Hofheim
X-ORIGINAL-URL:https://tvhofheim.de
X-WR-CALDESC:Veranstaltungen für TV Hofheim
REFRESH-INTERVAL;VALUE=DURATION:PT1H
X-Robots-Tag:noindex
X-PUBLISHED-TTL:PT1H
BEGIN:VTIMEZONE
TZID:UTC
BEGIN:STANDARD
TZOFFSETFROM:+0000
TZOFFSETTO:+0000
TZNAME:UTC
DTSTART:20250101T000000
END:STANDARD
END:VTIMEZONE
BEGIN:VEVENT
DTSTART;TZID=UTC:20260521T193000
DTEND;TZID=UTC:20260521T213000
DTSTAMP:20260425T101758
CREATED:20260330T073728Z
LAST-MODIFIED:20260330T073728Z
UID:11408-1779391800-1779399000@tvhofheim.de
SUMMARY:Vorstandssitzung (intern)
DESCRIPTION:
URL:https://tvhofheim.de/event/vorstandssitzung-intern-6
LOCATION:Turnhalle TV Hofheim – Vorstandszimmer\, Zeilsheimer Str. 2\, Hofheim\, 65719
END:VEVENT
END:VCALENDAR