BEGIN:VCALENDAR
VERSION:2.0
PRODID:-//TV Hofheim - ECPv6.15.20//NONSGML v1.0//EN
CALSCALE:GREGORIAN
METHOD:PUBLISH
X-WR-CALNAME:TV Hofheim
X-ORIGINAL-URL:https://tvhofheim.de
X-WR-CALDESC:Veranstaltungen für TV Hofheim
REFRESH-INTERVAL;VALUE=DURATION:PT1H
X-Robots-Tag:noindex
X-PUBLISHED-TTL:PT1H
BEGIN:VTIMEZONE
TZID:UTC
BEGIN:STANDARD
TZOFFSETFROM:+0000
TZOFFSETTO:+0000
TZNAME:UTC
DTSTART:20250101T000000
END:STANDARD
END:VTIMEZONE
BEGIN:VEVENT
DTSTART;TZID=UTC:20260527T190000
DTEND;TZID=UTC:20260527T210000
DTSTAMP:20260425T101743
CREATED:20260421T052859Z
LAST-MODIFIED:20260421T052859Z
UID:11484-1779908400-1779915600@tvhofheim.de
SUMMARY:JHV Abteilung Handball
DESCRIPTION:Für Mitglieder der Abteilung.
URL:https://tvhofheim.de/event/jhv-abteilung-handball
LOCATION:Turnhalle TV Hofheim – Medienraum\, Zeilsheimer Str.2\, Hofheim\, 65719
END:VEVENT
END:VCALENDAR