BEGIN:VCALENDAR
VERSION:2.0
PRODID:-//TV Hofheim - ECPv6.15.20//NONSGML v1.0//EN
CALSCALE:GREGORIAN
METHOD:PUBLISH
X-ORIGINAL-URL:https://tvhofheim.de
X-WR-CALDESC:Veranstaltungen für TV Hofheim
REFRESH-INTERVAL;VALUE=DURATION:PT1H
X-Robots-Tag:noindex
X-PUBLISHED-TTL:PT1H
BEGIN:VTIMEZONE
TZID:UTC
BEGIN:STANDARD
TZOFFSETFROM:+0000
TZOFFSETTO:+0000
TZNAME:UTC
DTSTART:20250101T000000
END:STANDARD
END:VTIMEZONE
BEGIN:VEVENT
DTSTART;TZID=UTC:20260117T150000
DTEND;TZID=UTC:20260117T180000
DTSTAMP:20260425T114513
CREATED:20250922T113015Z
LAST-MODIFIED:20250922T113015Z
UID:10594-1768662000-1768672800@tvhofheim.de
SUMMARY:Badminton – 2. Bundesliga Heimspieltag: TV Hofheim – TSV Neuhausen-Nymphenburg
DESCRIPTION:
URL:https://tvhofheim.de/event/badminton-2-bundesliga-heimspieltag-tv-hofheim-tsv-neuhausen-nymphenburg
LOCATION:Brühlwiesenhalle – Hofheim\, Rudolf-Mohr-Str. 4\, Hofheim\, 65719\, Deutschland
END:VEVENT
BEGIN:VEVENT
DTSTART;TZID=UTC:20260118T110000
DTEND;TZID=UTC:20260118T140000
DTSTAMP:20260425T114513
CREATED:20250922T113219Z
LAST-MODIFIED:20250922T113219Z
UID:10596-1768734000-1768744800@tvhofheim.de
SUMMARY:Badminton – 2. Bundesliga Heimspieltag: TV Hofheim – TuS Geretsried
DESCRIPTION:
URL:https://tvhofheim.de/event/badminton-2-bundesliga-heimspieltag-tv-hofheim-tus-geretsried
LOCATION:Brühlwiesenhalle – Hofheim\, Rudolf-Mohr-Str. 4\, Hofheim\, 65719\, Deutschland
END:VEVENT
BEGIN:VEVENT
DTSTART;TZID=UTC:20260127T190000
DTEND;TZID=UTC:20260127T203000
DTSTAMP:20260425T114513
CREATED:20251202T143338Z
LAST-MODIFIED:20251202T143505Z
UID:10909-1769540400-1769545800@tvhofheim.de
SUMMARY:Vorstandssitzung (intern)
DESCRIPTION:
URL:https://tvhofheim.de/event/vorstandssitzung-intern-5
LOCATION:Turnhalle TV Hofheim – Vorstandszimmer\, Zeilsheimer Str. 2\, Hofheim\, 65719
ORGANIZER;CN="TV 1860 Hofheim":MAILTO:info@tv1860hofheim.de
END:VEVENT
END:VCALENDAR