BEGIN:VCALENDAR
VERSION:2.0
PRODID:-//TV Hofheim - ECPv6.15.20//NONSGML v1.0//EN
CALSCALE:GREGORIAN
METHOD:PUBLISH
X-ORIGINAL-URL:https://tvhofheim.de
X-WR-CALDESC:Veranstaltungen für TV Hofheim
REFRESH-INTERVAL;VALUE=DURATION:PT1H
X-Robots-Tag:noindex
X-PUBLISHED-TTL:PT1H
BEGIN:VTIMEZONE
TZID:UTC
BEGIN:STANDARD
TZOFFSETFROM:+0000
TZOFFSETTO:+0000
TZNAME:UTC
DTSTART:20250101T000000
END:STANDARD
END:VTIMEZONE
BEGIN:VEVENT
DTSTART;TZID=UTC:20260509T103000
DTEND;TZID=UTC:20260509T120000
DTSTAMP:20260423T114723
CREATED:20260409T053009Z
LAST-MODIFIED:20260420T090358Z
UID:11413-1778322600-1778328000@tvhofheim.de
SUMMARY:JHV Abteilung Gymnastik
DESCRIPTION:Für Mitglieder der Abteilung
URL:https://tvhofheim.de/event/jhv-abteilung-gymnastik-2
LOCATION:Turnhalle TV Hofheim – Medienraum\, Zeilsheimer Str.2\, Hofheim\, 65719
END:VEVENT
BEGIN:VEVENT
DTSTART;TZID=UTC:20260509T110000
DTEND;TZID=UTC:20260509T220000
DTSTAMP:20260423T114723
CREATED:20260113T134908Z
LAST-MODIFIED:20260113T134908Z
UID:11050-1778324400-1778364000@tvhofheim.de
SUMMARY:Weinausschank der Handballabteilung auf dem Marktplatz am Untertor
DESCRIPTION:Am Wochenende des 9. und 10. Mai 2026 lädt die Handballabteilung herzlich zum Weinchalet auf dem Hofheimer Marktplatz am Untertor ein. \nVeranstaltungszeiten: \nSamstag: 11:00 – 22:00 Uhr \nSonntag: 14:30 – 22:00 Uhr \nFreuen sie sich auf eine reichhaltige Auswahl an Weinen\, Traubensäften und weiteren alkoholfreien Getränken. Für gute Laune und beste Stimmung ist selbstverständlich gesorgt!
URL:https://tvhofheim.de/event/weinausschank-der-handballabteilung-auf-dem-marktplatz-am-untertor-3
LOCATION:Marktplatz\, Am Untertor\, Hofheim\, 65719
END:VEVENT
BEGIN:VEVENT
DTSTART;TZID=UTC:20260510T143000
DTEND;TZID=UTC:20260510T220000
DTSTAMP:20260423T114723
CREATED:20260113T134935Z
LAST-MODIFIED:20260113T134935Z
UID:11053-1778423400-1778450400@tvhofheim.de
SUMMARY:Weinausschank der Handballabteilung auf dem Marktplatz am Untertor
DESCRIPTION:Am Wochenende des 9. und 10. Mai 2026 lädt die Handballabteilung herzlich zum Weinchalet auf dem Hofheimer Marktplatz am Untertor ein. \nVeranstaltungszeiten: \nSamstag: 11:00 – 22:00 Uhr \nSonntag: 14:30 – 22:00 Uhr \nFreuen sie sich auf eine reichhaltige Auswahl an Weinen\, Traubensäften und weiteren alkoholfreien Getränken. Für gute Laune und beste Stimmung ist selbstverständlich gesorgt!
URL:https://tvhofheim.de/event/weinausschank-der-handballabteilung-auf-dem-marktplatz-am-untertor-4
LOCATION:Marktplatz\, Am Untertor\, Hofheim\, 65719
END:VEVENT
BEGIN:VEVENT
DTSTART;TZID=UTC:20260519T200000
DTEND;TZID=UTC:20260519T220000
DTSTAMP:20260423T114723
CREATED:20260414T115453Z
LAST-MODIFIED:20260414T115453Z
UID:11421-1779220800-1779228000@tvhofheim.de
SUMMARY:JHV Abteilung Basketball
DESCRIPTION:Für Mitglieder der Abteilung.
URL:https://tvhofheim.de/event/jhv-abteilung-basketball-2
LOCATION:Turnhalle TV Hofheim – Medienraum\, Zeilsheimer Str.2\, Hofheim\, 65719
END:VEVENT
BEGIN:VEVENT
DTSTART;TZID=UTC:20260520T190000
DTEND;TZID=UTC:20260520T210000
DTSTAMP:20260423T114723
CREATED:20260409T053429Z
LAST-MODIFIED:20260414T132821Z
UID:11417-1779303600-1779310800@tvhofheim.de
SUMMARY:JHV Abteilung Turnen
DESCRIPTION:Für Mitglieder der Abteilung. \nDie Tagesordnung finden Sie im beigefügten PDF-Dokument : Tagesordnung JHV Turnen 2026 \n 
URL:https://tvhofheim.de/event/jhv-abteilung-turnen-3
LOCATION:Turnhalle TV Hofheim – Medienraum\, Zeilsheimer Str.2\, Hofheim\, 65719
END:VEVENT
BEGIN:VEVENT
DTSTART;TZID=UTC:20260521T193000
DTEND;TZID=UTC:20260521T213000
DTSTAMP:20260423T114723
CREATED:20260330T073728Z
LAST-MODIFIED:20260330T073728Z
UID:11408-1779391800-1779399000@tvhofheim.de
SUMMARY:Vorstandssitzung (intern)
DESCRIPTION:
URL:https://tvhofheim.de/event/vorstandssitzung-intern-6
LOCATION:Turnhalle TV Hofheim – Vorstandszimmer\, Zeilsheimer Str. 2\, Hofheim\, 65719
END:VEVENT
BEGIN:VEVENT
DTSTART;TZID=UTC:20260527T190000
DTEND;TZID=UTC:20260527T210000
DTSTAMP:20260423T114723
CREATED:20260421T052859Z
LAST-MODIFIED:20260421T052859Z
UID:11484-1779908400-1779915600@tvhofheim.de
SUMMARY:JHV Abteilung Handball
DESCRIPTION:Für Mitglieder der Abteilung.
URL:https://tvhofheim.de/event/jhv-abteilung-handball
LOCATION:Turnhalle TV Hofheim – Medienraum\, Zeilsheimer Str.2\, Hofheim\, 65719
END:VEVENT
BEGIN:VEVENT
DTSTART;TZID=UTC:20260529T150000
DTEND;TZID=UTC:20260529T170000
DTSTAMP:20260423T114723
CREATED:20260409T053306Z
LAST-MODIFIED:20260409T053306Z
UID:11415-1780066800-1780074000@tvhofheim.de
SUMMARY:JHV Abteilung Reha-Sport
DESCRIPTION:Für Mitglieder der Abteilung.
URL:https://tvhofheim.de/event/jhv-abteilung-reha-sport-3
LOCATION:Turnhalle TV Hofheim – Medienraum\, Zeilsheimer Str.2\, Hofheim\, 65719
END:VEVENT
END:VCALENDAR